{"text_format":"2","workbook":"xlsx","n_sheets":10,"sheets":["Záradék","Összesítő","Falazás és egyéb kőműves munkák","Napelem,inv,tartó Főépület","Napelem,inv,tartó toldalék ép.","Elektromos energia Főépület","Elektromos energia ellátás told","Munka1","Munka2","Munka3"],"not_rendered":{"charts":0,"images":0,"macros":0,"external_links":0,"defined_names":0,"comments":0,"pivot_tables":0},"unopened":[],"bounds":{"document_bytes":16777216,"sheet_cells":100000,"run_cost":"one","rows_first":2000,"rows_last":500,"rows_between":2000,"halvings":0,"cell_chars":16384,"cell_head_chars":4096},"cells_cut":0,"cells_raw":0,"read":"whole","date_system":"1900"}

{"sheet":"Záradék","index":0,"n_rows":34,"n_cols":4,"rows_kept":34,"cut":false,"hidden":false,"merged":[[6,0,6,3],[21,0,21,3],[25,2,25,3],[26,2,26,3],[27,2,27,3],[33,2,33,3],[29,2,29,3],[0,0,0,3],[1,0,1,3],[2,0,2,3],[3,0,3,3],[4,0,4,3],[5,0,5,3]]}
{"$rows_empty":8}
["                                       ",null,"                                       "]
["                                       ",null,"                                       "]
["                                       ",null," Kelt:      2014. jún. 25.             "]
["                                       ",null,"                                       "]
["                                       ",null,"                                       "]
["                                       ",null," Teljesítés: 2014. IV. negyedév        "]
["A munka leírása:                       "]
["SZTE Neuropszichiátria épületei                                                             "]
["30 kWp"]
["                                                                              "]
["Készült: Helyszíni felmérés alapján                                             "]
["                                                                              "]
[]
["Költségvetés főösszesítő"]
["Megnevezés",null,"Anyagköltség","Díjköltség"]
["1. Építmény közvetlen költségei",null,{"$f":"ROUND(SUM(Összesítő!B2:B6),0)","v":0},{"$f":"ROUND(SUM(Összesítő!C2:C6),0)","v":0}]
["1.1 Közvetlen önköltség összesen",null,{"$f":"ROUND(C24,0)","v":0},{"$f":"ROUND(D24,0)","v":0}]
["2.1 ÁFA vetítési alap",null,{"$f":"ROUND(C25+D25,0)","v":0}]
["2.2 Áfa",0.27,{"$f":"ROUND(C26*B27,0)","v":0}]
["3.  A munka ára",null,{"$f":"ROUND(C26+C27,0)","v":0}]
[]
["Egységár nettó költség/kVA:",null,{"$f":"SUM(C26)/30","v":0}]
[]
[]
[]
[null,null,"Aláírás"]

{"sheet":"Összesítő","index":1,"n_rows":7,"n_cols":3,"rows_kept":7,"cut":false,"hidden":false,"merged":[]}
["Munkanem megnevezése","Anyag összege","Díj összege"]
["Falazás és egyéb kőműves munkák",{"$f":"'Falazás és egyéb kőműves munkák'!H5","v":0},{"$f":"'Falazás és egyéb kőműves munkák'!I5","v":0}]
["Napelemek, inverterek, tartószerkezetek Fő épület",{"$f":"SUM('Napelem,inv,tartó Főépület'!H10)","v":0},{"$f":"SUM('Napelem,inv,tartó Főépület'!I10)","v":0}]
["Napelemek, inverterek, tartószerkezetek toldalék épület",{"$f":"SUM('Napelem,inv,tartó toldalék ép.'!H8)","v":0},{"$f":"SUM('Napelem,inv,tartó toldalék ép.'!I8)","v":0}]
["Elektromos energia ellátás, világítás Főépület",{"$f":"SUM('Elektromos energia Főépület'!H50)","v":0},{"$f":"SUM('Elektromos energia Főépület'!I50)","v":0}]
["Elektromos energia ellátás, világítás toldalék épület",{"$f":"'Elektromos energia ellátás told'!H46","v":0},{"$f":"'Elektromos energia ellátás told'!I46","v":0}]
["Összesen:",{"$f":"SUM(B2:B6)","v":0},{"$f":"SUM(C2:C6)","v":0}]

{"sheet":"Falazás és egyéb kőműves munkák","index":2,"n_rows":5,"n_cols":9,"rows_kept":5,"cut":false,"hidden":false,"merged":[]}
["Ssz.","Tételszám","Tétel szövege","Menny.","Egység","Anyag egységár","Díj egységre","Anyag összesen","Díj összesen"]
[1,"33-063-1.3.1","Faláttörés 30x30 cm méretig, zsalukő beton vasalt falban,\n25 cm vastagságig helyreállítással",3,"db",null,null,{"$f":"ROUND(D2*F2, 0)","v":0},{"$f":"ROUND(D2*G2, 0)","v":0}]
[]
[2,"33-063-2.1.3","Födémáttörés 30x30 cm méretig, 30 cm födémvastagságig, vasbetonlemez födémben helyreállítással",4,"db",null,null,{"$f":"ROUND(D4*F4, 0)","v":0},{"$f":"ROUND(D4*G4, 0)","v":0}]
[null,null,"Munkanem összesen:",{"$nulls":4},{"$f":"SUM(H4:H4)","v":0},{"$f":"SUM(I4:I4)","v":0}]

{"sheet":"Napelem,inv,tartó Főépület","index":3,"n_rows":10,"n_cols":9,"rows_kept":10,"cut":false,"hidden":false,"merged":[]}
["Ssz.","Tételszám","Tétel szövege","Menny.","Egység","Anyag egységár","Díj egységre","Anyag összesen","Díj összesen"]
[1,"K","Napelem modul Viessmann Vitovolt polikristályos napelem, teljesítmény: 250 Wp, 1652x994x46 mm, MC4",80,"db",null,null,{"$f":"ROUND(D2*F2, 0)","v":0},{"$f":"ROUND(D2*G2, 0)","v":0}]
[]
[2,"K","Fronius Symo galvanikus leválasztású háromfázisú hálózatba tápláló MPPT 2 db, webszewrveres 10 kW inverter",2,"db",null,null,{"$f":"ROUND(D4*F4, 0)","v":0},{"$f":"ROUND(D4*G4, 0)","v":0}]
[]
[3,"K","Schletter rögzítőkészlet lapos tetőre kristályos napelemmodulokhoz (40x40 mm-es sínnel)",80,"kszl.",null,null,{"$f":"ROUND(D6*F6, 0)","v":0},{"$f":"ROUND(D6*G6, 0)","v":0}]
[]
[4,"K","Daruzás",1,"klts",null,null,{"$f":"ROUND(D8*F8, 0)","v":0},{"$f":"ROUND(D8*G8, 0)","v":0}]
[]
[null,null,"Munkanem összesen:",{"$nulls":4},{"$f":"SUM(H2:H9)","v":0},{"$f":"SUM(I2:I9)","v":0}]

{"sheet":"Napelem,inv,tartó toldalék ép.","index":4,"n_rows":8,"n_cols":9,"rows_kept":8,"cut":false,"hidden":false,"merged":[]}
["Ssz.","Tételszám","Tétel szövege","Menny.","Egység","Anyag egységár","Díj egységre","Anyag összesen","Díj összesen"]
[1,"K","Napelem modul Viessmann Vitovolt polikristályos napelem, teljesítmény: 250 Wp, 1652x994x46 mm, MC4",40,"db",null,null,{"$f":"ROUND(D2*F2, 0)","v":0},{"$f":"ROUND(D2*G2, 0)","v":0}]
[]
[2,"K","Fronius Symo galvanikus leválasztású háromfázisú hálózatba tápláló MPPT 2 db, webszewrveres 10 kW inverter",1,"db",null,null,{"$f":"ROUND(D4*F4, 0)","v":0},{"$f":"ROUND(D4*G4, 0)","v":0}]
[]
[3,"K","Schletter rögzítőkészlet lapos tetőre kristályos napelemmodulokhoz (40x40 mm-es sínnel)",40,"kszl.",null,null,{"$f":"ROUND(D6*F6, 0)","v":0},{"$f":"ROUND(D6*G6, 0)","v":0}]
[]
[null,null,"Munkanem összesen:",{"$nulls":4},{"$f":"SUM(H2:H7)","v":0},{"$f":"SUM(I2:I7)","v":0}]

{"sheet":"Elektromos energia Főépület","index":5,"n_rows":50,"n_cols":9,"rows_kept":50,"cut":false,"hidden":false,"merged":[]}
["Ssz.","Tételszám","Tétel szövege","Menny.","Egység","Anyag egységár","Díj egységre","Anyag összesen","Díj összesen"]
[1,"71-001-24.2.2.-0535209","Műanyag vezetékcsatorna, padlószegélycsatorna tető bontása, helyreállítása szélesség:  60 - 100 mm-ig Legrand DLP  60x100 szerelvényezhető csatorna",25,"m",null,null,{"$f":"ROUND(D2*F2, 0)","v":0},{"$f":"ROUND(D2*G2, 0)","v":0}]
[]
[2,"71-001-24.2.2.-0535209","Műanyag vezetékcsatorna, padlószegélycsatorna elhelyezése előre elkészített tartószerkezetre szerelve, idomdarabokkal, szélesség:  60 - 100 mm-ig Legrand DLP  60x100 szerelvényezhető csatorna, fedéllel",8,"m",null,null,{"$f":"ROUND(D4*F4, 0)","v":0},{"$f":"ROUND(D4*G4, 0)","v":0}]
[]
[3,"71-001-48.2.1.1.2-0543192","Kábeltálca elhelyezése, tartószerkezet nélkül, bármely szélességben, idomok nélkül, külsőtéri használatra (nedves) korrózió veszélyes, ipari környezetbe, falra rögzítve, szélesség: 200 mm-ig, oldalmagasság: 60 mm OBO MKS 610 kábeltálca perforált 1,00 mm,",30,"m",null,null,{"$f":"ROUND(D6*F6, 0)","v":0},{"$f":"ROUND(D6*G6, 0)","v":0}]
[null,null,"60x100 mm, FT tűzihorganyzott, Cikkszám: 6055532 Elválasztó elemmel"]
[]
[4,"71-001-48.2.1.1.2-0543468","Kábeltálca tartószerkezetek elhelyezése, falra rögzítéshez OBO TPSA falikonzol 245 mm, FS szalaghorganyzott, Cikkszám: 6364209",30,"db",null,null,{"$f":"ROUND(D9*F9, 0)","v":0},{"$f":"ROUND(D9*G9, 0)","v":0}]
[]
[5,"71-002-21.2-0221504","Szolár kábel elhelyezése előre elkészített tartószerkezetre,  csatlakozó vezetékvégek bekötése nélkül, keresztmetszet: 6 mm2 1x6 mm2 Szolár vezetéket ",180,"m",null,null,{"$f":"ROUND(D11*F11, 0)","v":0},{"$f":"ROUND(D11*G11, 0)","v":0}]
[]
[6,"71-002-1.4-0213025","Szigetelt vezeték elhelyezése védőcsőbe húzva vagy vezetékcsatornába fektetve, rézvezetővel, leágazó kötésekkel, szigetelés ellenállás méréssel, a szerelvényekhez csatlakozó vezetékvégek bekötése nélkül, keresztmetszet: 25-35 mm2 H07V-K 450/750V 1x 25",32,"m",null,null,{"$f":"ROUND(D13*F13, 0)","v":0},{"$f":"ROUND(D13*G13, 0)","v":0}]
[null,null,"mm2, hajlékony rézvezetővel (Mkh)"]
[]
[7,"71-002-21.4-0221570","Kábelszerű vezeték elhelyezése előre elkészített tartószerkezetre, 1-12 erű rézvezetővel, elágazó dobozokkal és kötésekkel, szigetelési elenállás méréssel, a szerelvényekhez csatlakozó vezetékvégek bekötése nélkül, keresztmetszet: 10 mm2 NYY-J 5x  10 mm2,",10,"m",null,null,{"$f":"ROUND(D16*F16, 0)","v":0},{"$f":"ROUND(D16*G16, 0)","v":0}]
[null,null,"tömör rézvezetővel"]
[]
[8,"71-002-55.4-0336621","Műanyag szigetelésű energiaátviteli és irányítás-technikai kábel elhelyezése előre beépített tartószerkezetre, rögzítéssel, tömeghatár: 1,01-1,50 kg/m NYY-J 0,6/1 kV  5x16 mm2",32,"m",null,null,{"$f":"ROUND(D19*F19, 0)","v":0},{"$f":"ROUND(D19*G19, 0)","v":0}]
[]
[9,"71-003-16.3.2-0632054","Solár csatlakozó szerelése",8,"pár",null,null,{"$f":"ROUND(D21*F21, 0)","v":0},{"$f":"ROUND(D21*G21, 0)","v":0}]
[]
[10,"71-003-1.1-0611706","Szerelési segédanyagok (csavarok, kötegelők, tiplik, stb.)",1,"db",null,null,{"$f":"ROUND(D23*F23, 0)","v":0},{"$f":"ROUND(D23*G23, 0)","v":0}]
[]
[11,"71-004-4.1-0150305","Vezeték és kábelkötegelők elhelyezése, UV védett kivitelben 3,5x250 fekete vezetékkötegelő",2,"csom.",null,null,{"$f":"ROUND(D25*F25, 0)","v":0},{"$f":"ROUND(D25*G25, 0)","v":0}]
[]
[12,"71-008-9.3.3-0623293","Főelosztó berendezés szükséges átalakítása bővítése. Beépítendő készülékek:  1 db 4PC32A kismegszakító, 1 db 4P 40A kapcsoló meghosszabbított rotációs hajtással, 1 db 3P100A szakaszoló biztosító, 1 db OBO MCD 50-B/3+1 túlfesz. Az elosztó szükséges vezetékezésével",1,"klts",null,null,{"$f":"ROUND(D27*F27, 0)","v":0},{"$f":"ROUND(D27*G27, 0)","v":0}]
[]
[13,"71-009-11.1-0622118","Tokozott elosztóberendezések, műanyag tokozatok elhelyezése, IP 54, illetve IP 65 védettséggel, Mi - elosztószekrények HENSEL Mi elosztószekrény,  \"AC1-2\" jelű elosztó. Beépítendő készülékek: 1 db 4P C16A kismegszakító, 1 db 4P25A/30mA ÁVK, 1 db OBO V20-C/3+NPE túlfesz. szükséges vezetkeléssel tömszelencékkel",2,"db",null,null,{"$f":"ROUND(D29*F29, 0)","v":0},{"$f":"ROUND(D29*G29, 0)","v":0}]
[]
[14,"71-009-11.1-0622118","Tokozott elosztóberendezések, műanyag tokozatok elhelyezése, IP 54, illetve IP 65 védettséggel, Mi - elosztószekrények HENSEL-ENYSUN elosztószekrény,  \"DC1-3\" jelű elosztó. Tartalma: SOL20/4MC63 kapcsoló, VG-C-DCPH túlfesz., 4 db 2P 10A olvadó a szükséges vezetékeléssel, tömszelencékkel",2,"db",null,null,{"$f":"ROUND(D31*F31, 0)","v":0},{"$f":"ROUND(D31*G31, 0)","v":0}]
[]
[15,"71-013-4.2.1-0310307","EPH vezető elhelyezése Mkh 10 mm2 ",80,"m",null,null,{"$f":"ROUND(D33*F33, 0)","v":0},{"$f":"ROUND(D33*G33, 0)","v":0}]
[]
[16,"71-013-7.3-0310386","Érintésvédelmi hálózat tartozékainak szerelése, fémhálózat földelő kötése 1 m Mkh 10 mm2 csatlakoztatható vezetékkel, 2 db saruval és csavarral",40,"db",null,null,{"$f":"ROUND(D35*F35, 0)","v":0},{"$f":"ROUND(D35*G35, 0)","v":0}]
[]
[17,"71-013-7.4","Érintésvédelmi hálózat tartozékainak szerelése, nagykiterjedésű fémtárgy földelő kötése",10,"db",null,null,{"$f":"ROUND(D37*F37, 0)","v":0},{"$f":"ROUND(D37*G37, 0)","v":0}]
[]
[18,"71-013-9","Meglévő villámvédelmi rendszer felülvizsgálata szükség szerinti átalakítása",1,"ö",null,null,{"$f":"ROUND(D39*F39, 0)","v":0},{"$f":"ROUND(D39*G39, 0)","v":0}]
[]
[19,"71-013-9","Áramszolgáltatói csatlakozási dokumentáció összeállítása",1,"ö",null,null,{"$f":"ROUND(D41*F41, 0)","v":0},{"$f":"ROUND(D41*G41, 0)","v":0}]
[]
[20,"71-013-9","SZTE Műszaki osztályával egyeztetett kiviteli tervdokumentáció készítése",1,"ö",null,null,{"$f":"ROUND(D43*F43, 0)","v":0},{"$f":"ROUND(D43*G43, 0)","v":0}]
[]
[21,"71-013-9","Áramszolgáltatói ügyintézés. Áramszogáltatónak szükséges dokumentáció összeállítása",1,"ö",null,null,{"$f":"ROUND(D45*F45, 0)","v":0},{"$f":"ROUND(D45*G45, 0)","v":0}]
[]
[22,"71-013-9","Átadási dokumentáció, MSZ60364 szerinti \"Első ellenőrzés\", szükséges mérések és jegyzőkönyvek készítése",1,"ö",null,null,{"$f":"ROUND(D47*F47, 0)","v":0},{"$f":"ROUND(D47*G47, 0)","v":0}]
[]
[23,"71-013-9","A helyszíni bejárás során az Ajánlatadó szerint a megvalósításhoz szükséges egyéb költségek:",1,"ö",null,null,{"$f":"ROUND(D49*F49, 0)","v":0},{"$f":"ROUND(D49*G49, 0)","v":0}]
[null,null,"Munkanem összesen:",{"$nulls":4},{"$f":"ROUND(SUM(H4:H47),0)","v":0},{"$f":"ROUND(SUM(I4:I47),0)","v":0}]

{"sheet":"Elektromos energia ellátás told","index":6,"n_rows":46,"n_cols":9,"rows_kept":46,"cut":false,"hidden":false,"merged":[]}
["Ssz.","Tételszám","Tétel szövege","Menny.","Egység","Anyag egységár","Díj egységre","Anyag összesen","Díj összesen"]
[1,"71-001-24.2.2.-0535209","Műanyag vezetékcsatorna, padlószegélycsatorna tető bontása, helyreállítása szélesség:  60 - 100 mm-ig Legrand DLP  60x100 szerelvényezhető csatorna",12,"m",null,null,{"$f":"ROUND(D2*F2, 0)","v":0},{"$f":"ROUND(D2*G2, 0)","v":0}]
[]
[1,"71-001-48.2.1.1.2-0543192","Kábeltálca elhelyezése, tartószerkezet nélkül, bármely szélességben, idomok nélkül, külsőtéri használatra (nedves) korrózió veszélyes, ipari környezetbe, falra rögzítve, szélesség: 200 mm-ig, oldalmagasság: 60 mm OBO MKS 610 kábeltálca perforált 1,00 mm,",20,"m",null,null,{"$f":"ROUND(D4*F4, 0)","v":0},{"$f":"ROUND(D4*G4, 0)","v":0}]
[null,null,"60x100 mm, FT tűzihorganyzott, Cikkszám: 6055532 Elválasztó elemmel"]
[]
[2,"71-001-48.2.1.1.2-0543468","Kábeltálca tartószerkezetek elhelyezése, falra rögzítéshez OBO TPSA falikonzol 245 mm, FS szalaghorganyzott, Cikkszám: 6364209",20,"db",null,null,{"$f":"ROUND(D7*F7, 0)","v":0},{"$f":"ROUND(D7*G7, 0)","v":0}]
[]
[3,"71-002-21.2-0221504","Szolár kábel elhelyezése előre elkészített tartószerkezetre,  csatlakozó vezetékvégek bekötése nélkül, keresztmetszet: 6 mm2 1x6 mm2 Szolár vezetéket ",60,"m",null,null,{"$f":"ROUND(D9*F9, 0)","v":0},{"$f":"ROUND(D9*G9, 0)","v":0}]
[]
[4,"71-002-1.4-0213025","Szigetelt vezeték elhelyezése védőcsőbe húzva vagy vezetékcsatornába fektetve, rézvezetővel, leágazó kötésekkel, szigetelés ellenállás méréssel, a szerelvényekhez csatlakozó vezetékvégek bekötése nélkül, keresztmetszet: 25-35 mm2 H07V-K 450/750V 1x 25",20,"m",null,null,{"$f":"ROUND(D11*F11, 0)","v":0},{"$f":"ROUND(D11*G11, 0)","v":0}]
[null,null,"mm2, hajlékony rézvezetővel (Mkh)"]
[]
[5,"71-002-21.4-0221570","Kábelszerű vezeték elhelyezése előre elkészített tartószerkezetre, 1-12 erű rézvezetővel, elágazó dobozokkal és kötésekkel, szigetelési elenállás méréssel, a szerelvényekhez csatlakozó vezetékvégek bekötése nélkül, keresztmetszet: 10 mm2 NYY-J 5x  10 mm2,",20,"m",null,null,{"$f":"ROUND(D14*F14, 0)","v":0},{"$f":"ROUND(D14*G14, 0)","v":0}]
[null,null,"tömör rézvezetővel"]
[]
[6,"71-003-16.3.2-0632054","Solár csatlakozó szerelése",4,"pár",null,null,{"$f":"ROUND(D17*F17, 0)","v":0},{"$f":"ROUND(D17*G17, 0)","v":0}]
[]
[7,"71-003-1.1-0611706","Szerelési segédanyagok (csavarok, kötegelők, tiplik, stb.)",1,"db",null,null,{"$f":"ROUND(D19*F19, 0)","v":0},{"$f":"ROUND(D19*G19, 0)","v":0}]
[]
[8,"71-004-4.1-0150305","Vezeték és kábelkötegelők elhelyezése, UV védett kivitelben 3,5x250 fekete vezetékkötegelő",1,"csom.",null,null,{"$f":"ROUND(D21*F21, 0)","v":0},{"$f":"ROUND(D21*G21, 0)","v":0}]
[]
[9,"71-008-9.3.3-0623293","Főelosztó berendezés szükséges átalakítása bővítése. Beépítendő készülékek:  1 db 4PC20A kismegszakító, 1 db 4P 32A kapcsoló meghosszabbított rotációs hajtással, 1 db 3P100A szakaszoló biztosító, 1 db OBO MCD 50-B/3+1 túlfesz. Az elosztó szükséges vezetékezésével",1,"klts",null,null,{"$f":"ROUND(D23*F23, 0)","v":0},{"$f":"ROUND(D23*G23, 0)","v":0}]
[]
[11,"71-009-11.1-0622118","Tokozott elosztóberendezések, műanyag tokozatok elhelyezése, IP 54, illetve IP 65 védettséggel, Mi - elosztószekrények HENSEL Mi elosztószekrény,  \"AC1-3\" jelű elosztó. Beépítendő készülékek: 1 db 4P C16A kismegszakító, 1 db 4P25A/30mA ÁVK, 1 db OBO V20-C/3+NPE túlfesz. szükséges vezetkeléssel tömszelencékkel",1,"db",null,null,{"$f":"ROUND(D25*F25, 0)","v":0},{"$f":"ROUND(D25*G25, 0)","v":0}]
[]
[12,"71-009-11.1-0622118","Tokozott elosztóberendezések, műanyag tokozatok elhelyezése, IP 54, illetve IP 65 védettséggel, Mi - elosztószekrények HENSEL-ENYSUN elosztószekrény,  \"DC1-3\" jelű elosztó. Tartalma: SOL20/4MC63 kapcsoló, VG-C-DCPH túlfesz., 4 db 2P 10A olvadó a szükséges vezetékeléssel, tömszelencékkel",1,"db",null,null,{"$f":"ROUND(D27*F27, 0)","v":0},{"$f":"ROUND(D27*G27, 0)","v":0}]
[]
[13,"71-013-4.2.1-0310307","EPH vezető elhelyezése Mkh 10 mm2 ",20,"m",null,null,{"$f":"ROUND(D29*F29, 0)","v":0},{"$f":"ROUND(D29*G29, 0)","v":0}]
[]
[14,"71-013-7.3-0310386","Érintésvédelmi hálózat tartozékainak szerelése, fémhálózat földelő kötése 1 m Mkh 10 mm2 csatlakoztatható vezetékkel, 2 db saruval és csavarral",20,"db",null,null,{"$f":"ROUND(D31*F31, 0)","v":0},{"$f":"ROUND(D31*G31, 0)","v":0}]
[]
[15,"71-013-7.4","Érintésvédelmi hálózat tartozékainak szerelése, nagykiterjedésű fémtárgy földelő kötése",5,"db",null,null,{"$f":"ROUND(D33*F33, 0)","v":0},{"$f":"ROUND(D33*G33, 0)","v":0}]
[]
[16,"71-013-9","Meglévő villámvédelmi rendszer felülvizsgálata szükség szerinti átalakítása",1,"ö",null,null,{"$f":"ROUND(D35*F35, 0)","v":0},{"$f":"ROUND(D35*G35, 0)","v":0}]
[]
[17,"71-013-9","Áramszolgáltatói csatlakozási dokumentáció összeállítása",1,"ö",null,null,{"$f":"ROUND(D37*F37, 0)","v":0},{"$f":"ROUND(D37*G37, 0)","v":0}]
[]
[18,"71-013-9","SZTE Műszaki osztályával egyeztetett kiviteli tervdokumentáció készítése",1,"ö",null,null,{"$f":"ROUND(D39*F39, 0)","v":0},{"$f":"ROUND(D39*G39, 0)","v":0}]
[]
[19,"71-013-9","Áramszolgáltatói ügyintézés. Áramszogáltatónak szükséges dokumentáció összeállítása",1,"ö",null,null,{"$f":"ROUND(D41*F41, 0)","v":0},{"$f":"ROUND(D41*G41, 0)","v":0}]
[]
[20,"71-013-9","Átadási dokumentáció, MSZ60364 szerinti \"Első ellenőrzés\", szükséges mérések és jegyzőkönyvek készítése",1,"ö",null,null,{"$f":"ROUND(D43*F43, 0)","v":0},{"$f":"ROUND(D43*G43, 0)","v":0}]
[]
[21,"71-013-9","A helyszíni bejárás során az Ajánlatadó szerint a megvalósításhoz szükséges egyéb költségek:",1,"ö",null,null,{"$f":"ROUND(D45*F45, 0)","v":0},{"$f":"ROUND(D45*G45, 0)","v":0}]
[null,null,"Munkanem összesen:",{"$nulls":4},{"$f":"ROUND(SUM(H4:H43),0)","v":0},{"$f":"ROUND(SUM(I4:I43),0)","v":0}]

{"sheet":"Munka1","index":7,"n_rows":0,"n_cols":0,"rows_kept":0,"cut":false,"hidden":false,"merged":[]}

{"sheet":"Munka2","index":8,"n_rows":0,"n_cols":0,"rows_kept":0,"cut":false,"hidden":false,"merged":[]}

{"sheet":"Munka3","index":9,"n_rows":0,"n_cols":0,"rows_kept":0,"cut":false,"hidden":false,"merged":[]}